BEGIN:VCALENDAR
VERSION:2.0
CALSCALE:GREGORIAN
PRODID:-//MyApp//Calendar 1.0//EN
BEGIN:VEVENT
METHOD:PUBLISH
UID:47088@regionalniportaly.cz
DTSTAMP:20260424T151656Z
DTSTART;VALUE=DATE:20241222
DTEND;VALUE=DATE:20241223
SUMMARY:Štěpánští koledníci - Nastal přeradostný čas
DESCRIPTION:Krásný koncert "s duší"&nbsp\;&nbsp\;&nbsp\;&nbsp\;&nbsp\;&nbsp\;&nbsp\;&nbsp\;&nbsp\;&nbsp\;&nbsp\;&nbsp\;&nbsp\;&nbsp\;&nbsp\; Právě takto je často popisován vánoční koncert Štěpánských koledníků. Za kapelu musím říct\, že nás pozitivní ohlasy moc těší\, obzvlášť když si lidé odnášejí nejen vánoční náladu\, ale také melodie\, které jim zůstanou v&nbsp\;hlavě a přinášejí jim ještě dlouho radost a dobrou náladu. Naše koncerty jsou pestré – od tradičních koled v cimbálové úpravě až po folkové a popové aranže\, o které se stará náš kapelník Martin Novák. Z velké části hrajeme i naše autorské písně\, které si za více než 10 let koncertování získaly velkou oblibu. ....Dobré dny a radost ze života Vám za Štěpánské koledníky přejeStanislav Bílek
LOCATION:Dubňany
END:VEVENT
END:VCALENDAR