BEGIN:VCALENDAR
VERSION:2.0
CALSCALE:GREGORIAN
PRODID:-//MyApp//Calendar 1.0//EN
BEGIN:VEVENT
METHOD:PUBLISH
UID:47296@regionalniportaly.cz
DTSTAMP:20260424T155358Z
DTSTART;VALUE=DATE:20241124
DTEND;VALUE=DATE:20241125
SUMMARY:Divadlo Popudinské Močidĺany
DESCRIPTION:24.11.2024 po čase opět do Ratíškovic zavítá Ochotnické divadlo z Popudinských Močidľan.&nbsp\;Můžeme se těšit na komedii\, která nás zavede do jednoho pokoje v nejmenované nemocnici.V příběhu zahrají:Primářka: Kvetka HuťťováZdravotní sestra: Alenka NovákováÚklízečka Božka Kiliánová: Judy GregušováPacient I. Anton Kočička: Jakub TokošPacient II. Luigi Fekete: Juraj GregušPacient III. Cyril Matrtaj: Marián Sivoň&nbsp\;Zvuková spolupráce: Majka GregušováUž teď se můžeme těšit na skvělé herecké výkony.&nbsp\;&nbsp\;
LOCATION:Ratíškovice
END:VEVENT
END:VCALENDAR