BEGIN:VCALENDAR
VERSION:2.0
CALSCALE:GREGORIAN
PRODID:-//MyApp//Calendar 1.0//EN
BEGIN:VEVENT
METHOD:PUBLISH
UID:47896@regionalniportaly.cz
DTSTAMP:20260424T155104Z
DTSTART;VALUE=DATE:20241207
DTEND;VALUE=DATE:20241208
SUMMARY:Módní show
DESCRIPTION:Po dvou letech Vás srdečně zveme opět na jednu z nejprestižnějších akcí Osvětové besedy Ratíškovice\, konanou ve spolupráci se Svatební agenturou Ivana z Hodonína.Andělská módní show nabídne kolekce dámské módy TOSCANA Store\, zimní kolekce OK sport\, společenskou a svatební kolekci IVANA bridal.&nbsp\;Čeká Vás andělské překvapení a nebude chybět ani bohatá tombola.V rámci kulturního programu se představí cimbálová muzika Malena z Ratíškovic a mladý saxafonista Ondřej Gajdík.&nbsp\;Můžeme se těšit i na skvělého moderátora Ladika Šimečka.&nbsp\;Vstup do sálu již od 18:15 hodin.&nbsp\;Ve fotogalerii jsou fotografie z minulého ročníku.
LOCATION:Ratíškovice
END:VEVENT
END:VCALENDAR