BEGIN:VCALENDAR
VERSION:2.0
CALSCALE:GREGORIAN
PRODID:-//MyApp//Calendar 1.0//EN
BEGIN:VEVENT
METHOD:PUBLISH
UID:47967@regionalniportaly.cz
DTSTAMP:20260424T135538Z
DTSTART;VALUE=DATE:20241215
DTEND;VALUE=DATE:20241216
SUMMARY:Vánoční koncert Harafica
DESCRIPTION:V rámci adventu se v Ratíškovicích představí cimbálová muzika Harafica s vánočním programem.Všechny srdečně zveme k prožití chvil\, plné pokoje\, pohody a porozumění.
LOCATION:Ratíškovice
END:VEVENT
END:VCALENDAR