BEGIN:VCALENDAR
VERSION:2.0
CALSCALE:GREGORIAN
PRODID:-//MyApp//Calendar 1.0//EN
BEGIN:VEVENT
METHOD:PUBLISH
UID:48650@regionalniportaly.cz
DTSTAMP:20260424T090051Z
DTSTART;VALUE=DATE:20251213
DTEND;VALUE=DATE:20251214
SUMMARY:Mikulášská Grindovačka 5
DESCRIPTION:Jubilejní pátá Grindovačka bude opět hostit evropskou špičku gore scény Gutalax!&nbsp\;&nbsp\;Parťaky jim budou dělat němečtí Stillbirth.Více kapel a info již brzy.
LOCATION:Uherské Hradiště
END:VEVENT
END:VCALENDAR