BEGIN:VCALENDAR
VERSION:2.0
CALSCALE:GREGORIAN
PRODID:-//MyApp//Calendar 1.0//EN
BEGIN:VEVENT
METHOD:PUBLISH
UID:48755@regionalniportaly.cz
DTSTAMP:20260424T123602Z
DTSTART;VALUE=DATE:20250517
DTEND;VALUE=DATE:20250518
SUMMARY:Tublatanka & Argema v Dubňanech
DESCRIPTION:TUBLATANKASkupina sa začala formovať na jeseň v roku 1982\, kedy Maťo Ďurinda (vl. menom Martin Ďurinda) študent prvého ročníka Farmaceutickej fakulty U.K. sa prostredníctvom kamaráta Temerafa zoznámil vo vinárni Veľkí Františkáni s bubeníkom Jurajom Černým\, študentom VŠMU odbor dokumentárna réžia\, ktorý vtedy už mal za sebou niekoľko vystúpení so známou zábavovou big beatovou skupinou YPS.V prvom rozhovore pri vínnych strikoch si padli do oka.....a dnes už se těšíme na koncert v Boskovicích a Dubňanech spolu s další legendou CZ/SK rocku Argemou!\n \nArgemaFenomén z jižní Moravy ve svém zlatém období první poloviny 90. let válcoval hitparády a plakát s jejich podobiznou visel v nejednom pokoji.Své rodné Uherské Hradiště a jeho čtvrť Jarošov pak natrvalo zvěčnili v hitu Jarošovský pivovar. Nebyl však jediný - všichni si jistě vzpomeneme na písně jako Tohle je ráj\, Modrý pondělí\, Milión snů. Složení kapely se několikrát obměnilo\, ze současné sestavy Argemy vydržel celých 36 let od založení až do současnosti jen srdcař Pepa Pavka.\n \nVstupenky v prodeji: https://bit.ly/tublatanka-dubnany
LOCATION:Dubňany
END:VEVENT
END:VCALENDAR