BEGIN:VCALENDAR
VERSION:2.0
CALSCALE:GREGORIAN
PRODID:-//MyApp//Calendar 1.0//EN
BEGIN:VEVENT
METHOD:PUBLISH
UID:49342@regionalniportaly.cz
DTSTAMP:20260424T103733Z
DTSTART;VALUE=DATE:20250712
DTEND;VALUE=DATE:20250713
SUMMARY:ABBA World Revival + oldies disco DJ Luděk Ptáček
DESCRIPTION:Žhavý letní retro večer v podání přední revivalové kapely a oldies disco Ludˇka Ptáčka
LOCATION:Dubňany
END:VEVENT
END:VCALENDAR