BEGIN:VCALENDAR
VERSION:2.0
CALSCALE:GREGORIAN
PRODID:-//MyApp//Calendar 1.0//EN
BEGIN:VEVENT
METHOD:PUBLISH
UID:51782@regionalniportaly.cz
DTSTAMP:20260422T110337Z
DTSTART;VALUE=DATE:20250330
DTEND;VALUE=DATE:20250331
SUMMARY:Dětský karneval
DESCRIPTION:30.3.2025 v 15\,00 hodin Pohádkový karnevalSpolkový dům RatíškoviceDěti do 12 let vstup zdarma!Dospělí 100 Kč
LOCATION:Ratíškovice
END:VEVENT
END:VCALENDAR