BEGIN:VCALENDAR
VERSION:2.0
CALSCALE:GREGORIAN
PRODID:-//MyApp//Calendar 1.0//EN
BEGIN:VEVENT
METHOD:PUBLISH
UID:53088@regionalniportaly.cz
DTSTAMP:20260424T140102Z
DTSTART;VALUE=DATE:20250504
DTEND;VALUE=DATE:20250505
SUMMARY:Divadlo Strach má velké oči
DESCRIPTION:Divadlo NejenXmichu nás opět navštíví v Ratíškovicích. 4. května se můžeme těšit na pohádku&nbsp\;nejen pro děti - Strach má velké oči.&nbsp\;
LOCATION:Ratíškovice
END:VEVENT
END:VCALENDAR