BEGIN:VCALENDAR
VERSION:2.0
CALSCALE:GREGORIAN
PRODID:-//MyApp//Calendar 1.0//EN
BEGIN:VEVENT
METHOD:PUBLISH
UID:53668@regionalniportaly.cz
DTSTAMP:20260424T220039Z
DTSTART;VALUE=DATE:20250705
DTEND;VALUE=DATE:20250706
SUMMARY:Majk Spirit & DJ Grimaso
DESCRIPTION:19.00 opening DJ Marek21.00 &nbsp\;5RO22.00 Majk Spirit23.00 After party DJ LumideeCelým večerem bude provázet moderátor&nbsp\;
LOCATION:Dubňany
END:VEVENT
END:VCALENDAR