BEGIN:VCALENDAR
VERSION:2.0
CALSCALE:GREGORIAN
PRODID:-//MyApp//Calendar 1.0//EN
BEGIN:VEVENT
METHOD:PUBLISH
UID:53738@regionalniportaly.cz
DTSTAMP:20260424T100324Z
DTSTART;VALUE=DATE:20251122
DTEND;VALUE=DATE:20251123
SUMMARY:Techtle Mechtle - Vánoční show 2025
DESCRIPTION:Přidáváme&nbsp\;II. představeníTechtle mechtle - Vánoční show 2025
LOCATION:Ratíškovice
END:VEVENT
END:VCALENDAR