BEGIN:VCALENDAR
VERSION:2.0
CALSCALE:GREGORIAN
PRODID:-//MyApp//Calendar 1.0//EN
BEGIN:VEVENT
METHOD:PUBLISH
UID:54584@regionalniportaly.cz
DTSTAMP:20260424T103437Z
DTSTART;VALUE=DATE:20250713
DTEND;VALUE=DATE:20250714
SUMMARY:57. mezinárodní festival dechových hudeb Ratíškovice
DESCRIPTION:13. července 2025 se uskuteční v Ratíškovicích tradiční festival dechových hudeb.&nbsp\;
LOCATION:Ratíškovice
END:VEVENT
END:VCALENDAR