BEGIN:VCALENDAR
VERSION:2.0
CALSCALE:GREGORIAN
PRODID:-//MyApp//Calendar 1.0//EN
BEGIN:VEVENT
METHOD:PUBLISH
UID:55335@regionalniportaly.cz
DTSTAMP:20260424T090035Z
DTSTART;VALUE=DATE:20260331
DTEND;VALUE=DATE:20260401
SUMMARY:Tigran je ve městě
DESCRIPTION:Stand-Up komik&nbsp\;z televizního pořadu Comedy Club&nbsp\;Tigran Hovakimyan&nbsp\;přijíždí do Hodonína&nbsp\;se svým speciálem. Přijďte se pobavit. Čeká vás&nbsp\;nezapomenutelný stand-up večer&nbsp\;plný humoru\, energie a skvělých vtipů!&nbsp\;Tigranův předskokan bude český stand-up komik\, herec\, režisér a scenárista&nbsp\;Jiří Jakima.Těšte se na večer plný smíchu\, nekorektního i hrubozrnného humoru \;-)&nbsp\;Předprodej&nbsp\; 490 Kč /&nbsp\;Na místě 590 Kč&nbsp\;
LOCATION:Hodonín
END:VEVENT
END:VCALENDAR