BEGIN:VCALENDAR
VERSION:2.0
CALSCALE:GREGORIAN
PRODID:-//MyApp//Calendar 1.0//EN
BEGIN:VEVENT
METHOD:PUBLISH
UID:55826@regionalniportaly.cz
DTSTAMP:20260422T105058Z
DTSTART;VALUE=DATE:20250806
DTEND;VALUE=DATE:20250807
SUMMARY:Džob
DESCRIPTION:Kamarádi Petr a Michal se spolu znají už od gymplu\, jejich průšvihy jsou minulostí. Školní léta jsou pryč a oba se snaží chovat zodpovědně. Žijí ale naprosto rozdílné životy: Kolman se již usadil\, má dobře placenou práci v korporátu a rodinu s malou dcerkou\, druhý je samotář s nenaplněnými uměleckými ambicemi a živí se výrobou reklamních předmětů. Přesto však nerezignoval na uměleckou tvorbu. A stále je oba spojuje jejich vášeň: graffiti.
LOCATION:Ratíškovice
END:VEVENT
END:VCALENDAR