BEGIN:VCALENDAR
VERSION:2.0
CALSCALE:GREGORIAN
PRODID:-//MyApp//Calendar 1.0//EN
BEGIN:VEVENT
METHOD:PUBLISH
UID:57114@regionalniportaly.cz
DTSTAMP:20260424T075500Z
DTSTART;VALUE=DATE:20250829
DTEND;VALUE=DATE:20250830
SUMMARY:Srdce na dlani 2025
DESCRIPTION:V pátek 29. srpna 2025 od 19.00 hodin přijedou pro Nadační fond Krtek v rámci benefičního koncertu „Srdce na dlani“ už potřetí zazpívat interpreti\, kteří mají svá srdce na správném místě a pomůžou tak dětem s onkologickým onemocněním.\nVstupné za 200 Kč už teď mohou případně diváci koupit přes Ticketlive a nebo v den konání koncertu přímo na místě.
LOCATION:Čejkovice
END:VEVENT
END:VCALENDAR