BEGIN:VCALENDAR
VERSION:2.0
CALSCALE:GREGORIAN
PRODID:-//MyApp//Calendar 1.0//EN
BEGIN:VEVENT
METHOD:PUBLISH
UID:57140@regionalniportaly.cz
DTSTAMP:20260422T142430Z
DTSTART;VALUE=DATE:20250920
DTEND;VALUE=DATE:20250921
SUMMARY:Vinobraní pod Nechory
DESCRIPTION:Tradiční Vinobraní pod Nechory\,&nbsp\;které se bude konat v sobotu 20. září. Krojovaný průvod do Nechor vychází od Kulturního domu Prušánky ve 14:00.
LOCATION:Prušánky
END:VEVENT
END:VCALENDAR