BEGIN:VCALENDAR
VERSION:2.0
CALSCALE:GREGORIAN
PRODID:-//MyApp//Calendar 1.0//EN
BEGIN:VEVENT
METHOD:PUBLISH
UID:57252@regionalniportaly.cz
DTSTAMP:20260422T144631Z
DTSTART;VALUE=DATE:20251226
DTEND;VALUE=DATE:20251227
SUMMARY:J.A.Kronek - Alband
DESCRIPTION:Koncertní sezóna 2025 je pro&nbsp\;J. A. Kronek a&nbsp\; ALBAND&nbsp\;ve znamení propagace nového\, třetího alba skupiny s názvem ‚Sklad hořlavin‘.Kolekce nových písniček\, posun soundu kapely ke kytarovému rocku s důrazem na kombinaci elektrických a akustických kytar\, bonus v podobě remixu staré kernovské pecky ‚Zídka bláznů‘. To všechno najdou posluchači na novém albu\, které bude od dubna 2025 v prodeji.Pokud jde o návštěvníky koncertů\, představí Alband výběr písniček ze své nové kolekce i naživo. K tomu ale samozřejmě přidá osvědčené hity z minulých alb. A jako vždy zavzpomíná s fanoušky i na staré dobré časy Kernu\, jehož nepřehlédnutelným frontmanem byl&nbsp\;Jaroslav Albert Kronek\,&nbsp\;zakladatel Albandu\, po mnoho dlouhých let.Jako host vystoupí superoblíbená kapela SORY !&nbsp\;
LOCATION:Uherské Hradiště
END:VEVENT
END:VCALENDAR