BEGIN:VCALENDAR
VERSION:2.0
CALSCALE:GREGORIAN
PRODID:-//MyApp//Calendar 1.0//EN
BEGIN:VEVENT
METHOD:PUBLISH
UID:57379@regionalniportaly.cz
DTSTAMP:20260422T114017Z
DTSTART;VALUE=DATE:20260403
DTEND;VALUE=DATE:20260404
SUMMARY:Speed Invasion 2026
DESCRIPTION:SPEED INVASION '26 dorazí do Uherského Hradiště!Klub Mír3. 4. 2026Metaloví válečníci\, připravte se na jednu z nejdivočejších nocí příštího roku!&nbsp\;Turné SPEED INVASION 2026&nbsp\;přiveze do Uherského Hradiště dvě smrtící metalové formace přímo z Německa –&nbsp\;KNIFE&nbsp\;a&nbsp\;WARRANT!KNIFE (GER)Moderní úderka s kořeny v NWOBHM\, speed metalu a black metalu. KNIFE jsou známí pro svůj agresivní\, temný a přesto chytlavý sound\, který drtí od prvních tónů. Jejich hudba je mixem Motörhead\, Venom a Midnight\, zabalená do pekelné vizuální estetiky. Naživo tohle kvarteto řeže rychle\, hlasitě a bez milosti.WARRANT (GER)Německá thrash/speed legenda\, která působí na scéně už od 80. let. WARANT se stali jednou z klíčových součástí evropské speed/thrash metalové vlny a jejich debut&nbsp\;"The Enforcer"&nbsp\;(1985) je dnes považován za kultovní nahrávku. Po letech mlčení jsou zpět – silnější než kdy dřív – a připraveni zničit pódium stejně neúprosně jako před dekádami.Support: LAID TO WASTE (CZ)Domácí síla\, která se neztratí ani vedle zahraničních jmen. LAID TO WASTE z Prahy přivezou svůj nekompromisní&nbsp\;speed/thrash metal&nbsp\;s důrazem na old-school feeling\, ostré riffy a pekelně rychlé tempo. Ideální rozjezd pro večer plný metalového chaosu!Předprodej startuje brzy!&nbsp\;Sledujte událost a stránku klubu – vstupenky půjdou na dračku!Těšte se na večer plný řevu\, rychlosti\, kovu a poctivého undergroundového nářezu. Nepropásni tuhle metalovou jízdu –&nbsp\;3. dubna 2026 v Klubu Mír!
LOCATION:Uherské Hradiště
END:VEVENT
END:VCALENDAR