BEGIN:VCALENDAR
VERSION:2.0
CALSCALE:GREGORIAN
PRODID:-//MyApp//Calendar 1.0//EN
BEGIN:VEVENT
METHOD:PUBLISH
UID:57889@regionalniportaly.cz
DTSTAMP:20260424T100302Z
DTSTART;VALUE=DATE:20251130
DTEND;VALUE=DATE:20251201
SUMMARY:Stezka odvahy / HODONÍN
DESCRIPTION:Stezka odvahy míří do Hodonín!Potkáte ty nejstrašidelnější pohádkové a nadpřirozené bytosti\, které otestují vaši odvahu a dovednosti. Připravte se na temná zákoutí a lehké tematické úkoly pro děti!Těšíme se na všechny malé i velké odvážlivce!&nbsp\;Vhodné pro děti 3 - 10 let📅 Datum: 30.11. 2025⏰&nbsp\;Čas: Najdete na své zakoupené vstupence📍&nbsp\;Místo:&nbsp\;Městský park\, ulice J.Suka \, Hodonín🚩&nbsp\;Start:&nbsp\;https://mapy.com/s/nejomerosuKaždých 5 minut pouštíme na stezku skupinku přibližně 5 dětí s rodiči\, které budou mezi sebou soupeřit v odvaze a dovednostech.⚠️Zakoupením vstupenky berete na vědomí a souhlasíte\, že vstupujete na trasu výhradně na vlastní nebezpečí. Za svou bezpečnost a bezpečnost svých dětí zodpovídáte sami. ⚠️
LOCATION:Hodonín
END:VEVENT
END:VCALENDAR