BEGIN:VCALENDAR
VERSION:2.0
CALSCALE:GREGORIAN
PRODID:-//MyApp//Calendar 1.0//EN
BEGIN:VEVENT
METHOD:PUBLISH
UID:57983@regionalniportaly.cz
DTSTAMP:20260424T090603Z
DTSTART;VALUE=DATE:20251121
DTEND;VALUE=DATE:20251122
SUMMARY:Flamingo - 30. výročí otevření diskotéky
DESCRIPTION:FLAMINGO – 30 LET!Legendární diskotéka FLAMINGO\, fenomén devadesátých a nultých let\, slaví 30. výročí svého otevření! Místo\, kam 17 let pravidelně mířili příznivci z celého okolí\, kde se střídaly generace a které bylo svého času nejnavštěvovanější diskotékou ve Zlínském kraji.Přijďte zavzpomínat na zlaté časy a zažít atmosféru\, kterou si pamatujeme! Hrají bývalí rezidenti: 🎧 Moderátoři Rádia Kiss Publikum DJ Vlast’a Macík &amp\; Míra Park 🎧 DJ Jiří Dundálek 🎧 DJ Jirka Vávra 🎧 DJ Meyw 🎧 DJ DarkTěšit se můžete na: Profi stage ( špičková světla a zvuk ) Celoplošnou projekci ( sestřih foto\, videjí z akcí\, jak to u nás v této době vypadalo) Laser show Stript showPřijďte si užít jednu z největších oslav taneční scény u nás! Co na závěr dodat\, jen slogan používaný 17 let 🔊 TAK NEVÁHEJTE\, NA FLAMIGO V PÁ 21.11. POSPÍCHEJTE !!! 🔊
LOCATION:Kostelany nad Moravou
END:VEVENT
END:VCALENDAR