BEGIN:VCALENDAR
VERSION:2.0
CALSCALE:GREGORIAN
PRODID:-//MyApp//Calendar 1.0//EN
BEGIN:VEVENT
METHOD:PUBLISH
UID:58060@regionalniportaly.cz
DTSTAMP:20260422T032210Z
DTSTART;VALUE=DATE:20251111
DTEND;VALUE=DATE:20251112
SUMMARY:Rodinná konference
DESCRIPTION:Rodinná konference s předním lékařem v oboru neurologie\, pedagogem Yaleské univerzity - MUDr. Martinem Janem Stránským.Dále pedagogem\, lektorem osobního rozvoje PhDr. Markem Hermanem a speciálním pedagogem\, rodinným terapeutem Mgr. Jiřím Haldou.Po každé přednášce bude možnost zakoupení publikací s autogramiádou.Každá přednáška bude trvat cca 1\,5 hod.&nbsp\;Začátek programu je od 16:00 hodin\, předpokládaný konec 21:30 hodin.V ceně vstupného malé občerstvení.&nbsp\;&nbsp\;
LOCATION:Ratíškovice
END:VEVENT
END:VCALENDAR