BEGIN:VCALENDAR
VERSION:2.0
CALSCALE:GREGORIAN
PRODID:-//MyApp//Calendar 1.0//EN
BEGIN:VEVENT
METHOD:PUBLISH
UID:58444@regionalniportaly.cz
DTSTAMP:20260422T072211Z
DTSTART;VALUE=DATE:20251119
DTEND;VALUE=DATE:20251120
SUMMARY:Krásný je život s humorem - Ivo Šmoldas
DESCRIPTION:Zábavný pořad - Krásný je život s humoremKlubový pořad\, založený na humorném a originálním vyprávění životních příběhů\, jak ze soukromého tak z profesního života scénáristy\, překladatele\, moderátora a básníka Iva Šmoldase.
LOCATION:Mutěnice
END:VEVENT
END:VCALENDAR