BEGIN:VCALENDAR
VERSION:2.0
CALSCALE:GREGORIAN
PRODID:-//MyApp//Calendar 1.0//EN
BEGIN:VEVENT
METHOD:PUBLISH
UID:58488@regionalniportaly.cz
DTSTAMP:20260421T230626Z
DTSTART;VALUE=DATE:20251222
DTEND;VALUE=DATE:20251223
SUMMARY:Štěpánští koledníci
DESCRIPTION:Obec Mutěnice vás srdečně zve na předvánoční koncert kapely - Štěpánští koledníci
LOCATION:Mutěnice
END:VEVENT
END:VCALENDAR