BEGIN:VCALENDAR
VERSION:2.0
CALSCALE:GREGORIAN
PRODID:-//MyApp//Calendar 1.0//EN
BEGIN:VEVENT
METHOD:PUBLISH
UID:59018@regionalniportaly.cz
DTSTAMP:20260424T131812Z
DTSTART;VALUE=DATE:20251114
DTEND;VALUE=DATE:20251115
SUMMARY:Golpe / Fragmentation 360 Warm Up Vol.5 Bobyhall
DESCRIPTION:Naše poslední zastávka v rámci warm ups na BOBYHALLL bude zakončena v klubu No6 v Uherském Hradišti 14.11.2025Headlinerem celého večera je jedna z nejvýraznějších osob československé techno scény\, a to nikdo jiný než GOLPE.Support mu udělají: Illya\, Meyw\, Danny Bright a celý line up uzavře výherce contestu.V rámci eventu se můžete těšit na soutěž o vstupenky zdarma a slevové kódy na Bobyhall.
LOCATION:Uherské Hradiště
END:VEVENT
END:VCALENDAR