BEGIN:VCALENDAR
VERSION:2.0
CALSCALE:GREGORIAN
PRODID:-//MyApp//Calendar 1.0//EN
BEGIN:VEVENT
METHOD:PUBLISH
UID:59110@regionalniportaly.cz
DTSTAMP:20260422T072121Z
DTSTART;VALUE=DATE:20260320
DTEND;VALUE=DATE:20260321
SUMMARY:Už jsme doma
DESCRIPTION:Už jsme doma\,kultovní kapela\, která přetavila punkové počátky do svébytného stylu\, který nejde hudebně zaškatulkovat a díky tomu nic podobného na podiích nepotkáte. Jisté vlivy kapel jako Resident nebo Magma jim ale dává punc avantgardy.Z českých kapel mají díky své originalitě na kontě rozhodně nejvíc odehraných koncertů v zahraničí\, od Japonska až po Austrálii a USA.V klubu budou po čtyřech letech a zahrají to nejlepší co za více než 40 let vytvořili.Jako host vystoupí Jay&nbsp\;Rabbit\, kapela\, která se v klubu představí vůbec poprvé. Kytarovka\, která propojuje blues rock\, grunge\, indie\, pop a progresivní rock\, čímž vytváří nevšední zvukový zážitek.
LOCATION:Uherské Hradiště
END:VEVENT
END:VCALENDAR