BEGIN:VCALENDAR
VERSION:2.0
CALSCALE:GREGORIAN
PRODID:-//MyApp//Calendar 1.0//EN
BEGIN:VEVENT
METHOD:PUBLISH
UID:59289@regionalniportaly.cz
DTSTAMP:20260422T145506Z
DTSTART;VALUE=DATE:20260109
DTEND;VALUE=DATE:20260110
SUMMARY:Mucha / Pochcala Musica
DESCRIPTION:Pochcala Musica je fúze holčičího punku a ryzí cimbálové nádhery. Kultovní píseň Právě jsem se pochcala dala název této zvrácené kombinaci\, ale i příčinu a důvod v tomto zvěrstvu pokračovat. Třetí koncert této přehlídky nevkusu se uskuteční konečně v samotném srdci Slovácka.Lístky mizí\, sotva se začaly prodávat\, tedy neváhejte\, Nikola v kroju je jako Babiš v bikinách.
LOCATION:Uherské Hradiště
END:VEVENT
END:VCALENDAR