BEGIN:VCALENDAR
VERSION:2.0
CALSCALE:GREGORIAN
PRODID:-//MyApp//Calendar 1.0//EN
BEGIN:VEVENT
METHOD:PUBLISH
UID:59300@regionalniportaly.cz
DTSTAMP:20260421T221823Z
DTSTART;VALUE=DATE:20260327
DTEND;VALUE=DATE:20260328
SUMMARY:Mňága a Žďorp
DESCRIPTION:Legendární kapela na tradiční návštěvě v klubu Mír.Nenechejte si ujít koncert - cena vstupenky v první vlně za 450 kč\, &nbsp\;od 23.12. za 500 kč a od 1.3. 2026 za 550 Kč.
LOCATION:Uherské Hradiště
END:VEVENT
END:VCALENDAR