BEGIN:VCALENDAR
VERSION:2.0
CALSCALE:GREGORIAN
PRODID:-//MyApp//Calendar 1.0//EN
BEGIN:VEVENT
METHOD:PUBLISH
UID:59383@regionalniportaly.cz
DTSTAMP:20260424T131737Z
DTSTART;VALUE=DATE:20251112
DTEND;VALUE=DATE:20251113
SUMMARY:Springsteen: Vysvoboď mě z neznáma
DESCRIPTION:Zcela nový celovečerní film společnosti 20th Century Studios “Springsteen: „Deliver Me from Nowhere“ vypráví příběh natáčení alba Bruce Springsteena „Nebraska“ z roku 1982\, se syrovými\, akustickými nahrávkami\, které znamenalo klíčové období v jeho životě a je považováno za jedno z jeho nejtrvalejších děl.\n \nPřístupnost 12+ / 2025 / USA / hudební\, životopisný / titulky / Režie: Scott Cooper \n \nVstupné: 150 KčVstupenky v předprodeji online nebo půl hodiny před filmem.\nVíce na www.kd-straznice.cz 
LOCATION:Strážnice
END:VEVENT
END:VCALENDAR