BEGIN:VCALENDAR
VERSION:2.0
CALSCALE:GREGORIAN
PRODID:-//MyApp//Calendar 1.0//EN
BEGIN:VEVENT
METHOD:PUBLISH
UID:59388@regionalniportaly.cz
DTSTAMP:20260424T100357Z
DTSTART;VALUE=DATE:20251123
DTEND;VALUE=DATE:20251124
SUMMARY:Čarodějka druhá část
DESCRIPTION:Dočkali jsme se. Čarodějka\, jeden z nejúspěšnějších muzikálů současnosti dovypráví svůj příběh. Diváky čeká fantastický příběh plný napětí\, emocí a nádherné muziky.\n \nPřístupný / PREMIÉRA / USA / fantasy\, muzikál / Režie: Jon M. Chu\n \nVstupné: 150 KčVstupenky v předprodeji online nebo půl hodiny před filmem.\nVíce na www.kd-straznice.cz 
LOCATION:Strážnice
END:VEVENT
END:VCALENDAR