BEGIN:VCALENDAR
VERSION:2.0
CALSCALE:GREGORIAN
PRODID:-//MyApp//Calendar 1.0//EN
BEGIN:VEVENT
METHOD:PUBLISH
UID:59434@regionalniportaly.cz
DTSTAMP:20260421T205456Z
DTSTART;VALUE=DATE:20260725
DTEND;VALUE=DATE:20260726
SUMMARY:Tři tenoři na Moravě (The Three Tenors in Moravia)
DESCRIPTION:THE THREE TENORS IN MORAVIAPředstaví se vám hvězdy světových operních scén\, tenor Paolo Lardizzone\, který září ve slavné veronské aréně v Itálii\, tenor Mickael Spadaccini\, hvězda evropských operních domů a tenor Aleš Briscein sólista Národního divadla v Praze a jeden z nejobsazovanějších tenorů současnosti.&nbsp\;Představí se vám ve zbrusu novém koncertním projektu The Three Tenors in Moravia. Přijďte si poslechnout ty nejkrásnější tenorové hlasy současnosti.&nbsp\;Jako každoročně bude představena charitativní činnost spolku ALSA\, která pečuje o pacienty s ALS.Večerem vás provede moderátorka Monika Timková společně s uměleckým ředitelem festivalu Michalem Lieberzeitem. Koncert je dělen na dvě samostatné části\, každá po jedné hodině a přestávka je 30 minut.
LOCATION:Valtice
END:VEVENT
END:VCALENDAR