BEGIN:VCALENDAR
VERSION:2.0
CALSCALE:GREGORIAN
PRODID:-//MyApp//Calendar 1.0//EN
BEGIN:VEVENT
METHOD:PUBLISH
UID:59614@regionalniportaly.cz
DTSTAMP:20260421T232900Z
DTSTART;VALUE=DATE:20260519
DTEND;VALUE=DATE:20260520
SUMMARY:Osmany Show
DESCRIPTION:Originální zábavný pořad populárního módního návrháře kubánského původu Osmanyho Laffity se zbrusu novými historkami a příběhy.Devadesát minut nekorektního humoru a zábavy\, která Vás bezesporu pobaví. Osmany Vám dá nahlédnout do svého soukromí a ukáže\, že je také člověk z masa a kostí. I mnohdy smutnou historku dovede podat neodolatelným způsobem\, který pobaví.Show\, která polechtá Vaši bránici!Moderuje: Eva DECASTELOÚčinkuje: Osmany LAFFITADélka představení 90 až 120 minut (obvykle + přestávka)Představení nedoporučujeme divákům mladším 15 let.
LOCATION:Strážnice
END:VEVENT
END:VCALENDAR