BEGIN:VCALENDAR
VERSION:2.0
CALSCALE:GREGORIAN
PRODID:-//MyApp//Calendar 1.0//EN
BEGIN:VEVENT
METHOD:PUBLISH
UID:59625@regionalniportaly.cz
DTSTAMP:20260422T102037Z
DTSTART;VALUE=DATE:20260227
DTEND;VALUE=DATE:20260228
SUMMARY:Znouzectnost & Ctib
DESCRIPTION:Znouzectnost je svéráznou kombinací rocku\,folku\,undergroundu\,punku a garage rocku....a slaví 40 let na scéně.Jako host vystoupí CTIB - skromný valašský velikán \, který o sobě říká :Svoje kořeny mám v&nbsp\; DIY hardcorepunkové scéně malého moravského města Rožnov pod Radhoštěm. Patřil jsem do party\, která organizovala koncerty v klubu Vrah\, hrál jsem nebo hraju v&nbsp\;kapelách žánrově rozpjatých od hardcoru po postpunk (dříve třeba Telefon nebo Uštkni\, dnes Chorobopop). Jsem ale mimo jiné ovlivněný i českým předlistopadovým folkem\, takže když jsem začal hrát sólově coby Ctib\, byl to nejdřív folkpunk s&nbsp\;akustickou kytarou. Pak mi to ale přestalo stačit a v&nbsp\;kompu jsem si doaranžoval bicí\, basu a nějaké synťáky. No a nakonec jsem si do kompu nahrál i tu kytaru a přestal se s&nbsp\;ní tahat na koncerty. Tomu\, co hraju\, od té doby říkám discoegopunk. V&nbsp\;září 2021 díky brněnskému labelu Kabinet Records spatřila světlo světa moje první LP pojmenované Kampak?! V&nbsp\;prosinci 2022 vyšlo u stejného vydavatele druhé album s&nbsp\;názvem Smrad v&nbsp\;síni tradic. Třetí deska právě vzniká\, a pokud vše půjde\, jak má\, vyjde na jaře 2026.&nbsp\;&nbsp\;
LOCATION:Uherské Hradiště
END:VEVENT
END:VCALENDAR