BEGIN:VCALENDAR
VERSION:2.0
CALSCALE:GREGORIAN
PRODID:-//MyApp//Calendar 1.0//EN
BEGIN:VEVENT
METHOD:PUBLISH
UID:59695@regionalniportaly.cz
DTSTAMP:20260422T105226Z
DTSTART;VALUE=DATE:20251206
DTEND;VALUE=DATE:20251207
SUMMARY:Melodie Vánoc - smyčcový kvartet Señorita's
DESCRIPTION:Smyčcový kvartet Señoritas přináší sváteční koncertní program\, kterýrozezní sály kouzlem Vánoc a přenese publikum do světa nejkrásnějšíchvánočních melodií – s noblesou a citem pro detail.V podání kvarteta zazní známé české i světové vánoční skladby\, od klasikyaž po moderní vánoční hity – například písně z filmů Sám doma\, Tři oříškypro Popelku\, Pelíšky a Láska nebeská\, dojemná Adeste fideles&nbsp\;i současná autorská tvorba jako Vánoce na míru od Ewy Farne.Tento večer vás přenese do světa hudby\, která evokuje všechny tynejkrásnější vzpomínky a okamžiky Vánoc.&nbsp\;
LOCATION:Ratíškovice
END:VEVENT
END:VCALENDAR