BEGIN:VCALENDAR
VERSION:2.0
CALSCALE:GREGORIAN
PRODID:-//MyApp//Calendar 1.0//EN
BEGIN:VEVENT
METHOD:PUBLISH
UID:59710@regionalniportaly.cz
DTSTAMP:20260424T090611Z
DTSTART;VALUE=DATE:20251122
DTEND;VALUE=DATE:20251123
SUMMARY:Dukla vozovna & Volant
DESCRIPTION:Točte se pankáčové\, dáme si malýho panáčka! Zvláště když Volant slaví 30 let.
LOCATION:Uherské Hradiště
END:VEVENT
END:VCALENDAR