BEGIN:VCALENDAR
VERSION:2.0
CALSCALE:GREGORIAN
PRODID:-//MyApp//Calendar 1.0//EN
BEGIN:VEVENT
METHOD:PUBLISH
UID:60312@regionalniportaly.cz
DTSTAMP:20260424T100437Z
DTSTART;VALUE=DATE:20251201
DTEND;VALUE=DATE:20251202
SUMMARY:Řepka hříšník
DESCRIPTION:Přístupnost 12+ / 2025 / Česko / dokument / Režie: Petr Větrovský / délka: 114 min. \nTři roky natáčení\, syrová autenticita a upřímná zpověď Tomáše Řepky. Nový dokument režiséra Petra Větrovského odhaluje nečekané momenty ze života fotbalového rebela\, který se před kamerou otevřel jako nikdy předtím.\n \nVstupné: 140 KčVstupenky v předprodeji online nebo půl hodiny před filmem.
LOCATION:Strážnice
END:VEVENT
END:VCALENDAR