BEGIN:VCALENDAR
VERSION:2.0
CALSCALE:GREGORIAN
PRODID:-//MyApp//Calendar 1.0//EN
BEGIN:VEVENT
METHOD:PUBLISH
UID:60313@regionalniportaly.cz
DTSTAMP:20260424T100754Z
DTSTART;VALUE=DATE:20251203
DTEND;VALUE=DATE:20251204
SUMMARY:Stezka života
DESCRIPTION:Přístupnost 12+ / 2025 / Velká Británie / drama / dabing / Režie: Marianne Elliott / délka: 115 min. \nGillian Anderson a Jason Isaacs na tisícikilometrové cestě divoce krásným anglickým pobřežím vstříc novým začátkům.\n \nVstupné: 140 Kč\nVstupenky v předprodeji online nebo půl hodiny před filmem.
LOCATION:Strážnice
END:VEVENT
END:VCALENDAR