BEGIN:VCALENDAR
VERSION:2.0
CALSCALE:GREGORIAN
PRODID:-//MyApp//Calendar 1.0//EN
BEGIN:VEVENT
METHOD:PUBLISH
UID:60616@regionalniportaly.cz
DTSTAMP:20260424T111520Z
DTSTART;VALUE=DATE:20260211
DTEND;VALUE=DATE:20260212
SUMMARY:František Plánička - divadlo
DESCRIPTION:
LOCATION:Hodonín
END:VEVENT
END:VCALENDAR