BEGIN:VCALENDAR
VERSION:2.0
CALSCALE:GREGORIAN
PRODID:-//MyApp//Calendar 1.0//EN
BEGIN:VEVENT
METHOD:PUBLISH
UID:60617@regionalniportaly.cz
DTSTAMP:20260422T085310Z
DTSTART;VALUE=DATE:20260312
DTEND;VALUE=DATE:20260313
SUMMARY:Franta Uher - 40 let příběhů\, písní a smíchu
DESCRIPTION:
LOCATION:Hodonín
END:VEVENT
END:VCALENDAR