BEGIN:VCALENDAR
VERSION:2.0
CALSCALE:GREGORIAN
PRODID:-//MyApp//Calendar 1.0//EN
BEGIN:VEVENT
METHOD:PUBLISH
UID:60718@regionalniportaly.cz
DTSTAMP:20260422T005232Z
DTSTART;VALUE=DATE:20260329
DTEND;VALUE=DATE:20260330
SUMMARY:Vzpomínka na Karla Gotta a českou písničku
DESCRIPTION:- VZPOMÍNKA NA KARLA GOTTA A ČESKOU PÍSNIČKU -Hudební koncept složený výhradně z českých skladeb! Vzpomínáme především na božského Karla Gotta\, ale zazní i písně Waldemara Matušky\, Hany Hegerové\, Marie Rottrové\, Věry Špinarové\, Jiřího Korna\, Jana Kalouska či Ilony Csákové.THE PEOPLE – brass pop-rocková jízda\, jakou jen tak nezažijete!&nbsp\;13 muzikantů\, velká dechová sekce\, pořádná show a hlavně originální zvuk\, který vás dostane!&nbsp\;Pop\, disco\, funk&nbsp\;nebo tvrdý rock? Vše v unikátních aranžích\, které jinde neuslyšíte. Kromě toho hrají i&nbsp\;vlastní autorské songy!&nbsp\;Slyšet je můžete snad všude… Na koncertech\, festivalech\, slavnostech\, soukromých akcích i na plesech – kde je hudba\, tam jsou THE PEOPLE.
LOCATION:Svatobořice-Mistřín
END:VEVENT
END:VCALENDAR