BEGIN:VCALENDAR
VERSION:2.0
CALSCALE:GREGORIAN
PRODID:-//MyApp//Calendar 1.0//EN
BEGIN:VEVENT
METHOD:PUBLISH
UID:60840@regionalniportaly.cz
DTSTAMP:20260422T144642Z
DTSTART;VALUE=DATE:20260116
DTEND;VALUE=DATE:20260117
SUMMARY:DNB RAVE vol.6
DESCRIPTION:DNB RAVE vol.6Další noc plná DNB hudby\, kterou budou určovatZIGI SC&nbsp\; //&nbsp\; CEEYA &amp\; NEMESIS //&nbsp\; APOKAIN&nbsp\; // JOSHU4&nbsp\; &nbsp\;// ILL-FATED&nbsp\; //&nbsp\; RAVEM&nbsp\;&nbsp\;Vstupné na místě 150 Kč / vstup 16+
LOCATION:Uherské Hradiště
END:VEVENT
END:VCALENDAR