BEGIN:VCALENDAR
VERSION:2.0
CALSCALE:GREGORIAN
PRODID:-//MyApp//Calendar 1.0//EN
BEGIN:VEVENT
METHOD:PUBLISH
UID:61766@regionalniportaly.cz
DTSTAMP:20260422T143610Z
DTSTART;VALUE=DATE:20260113
DTEND;VALUE=DATE:20260114
SUMMARY:Ranhojič II
DESCRIPTION:Opustil domov\, aby následoval své poslání a stal se lékařem na druhém konci světa. Nyní se Rob Cole vrací do Británie\, aby poznatky slovutného Avicenny\, považovaného za průkopníka západní medicíny\, rozšířil tam.\n \nPřístupnost 12+ / 2025 / Německo / historický / dabing / Režie: Philipp Stölzl  / délka: 144min.  Epická výprava do bolestného středověku\nOpustil domov\, aby následoval své poslání a stal se lékařem na druhém konci světa. Nyní se Rob Cole vrací do Británie\, aby poznatky slovutného Avicenny\, považovaného za průkopníka západní medicíny\, rozšířil tam. Svým krajanům se ale vzdálil na víc než tisíce kilometrů… Bude proto muset obstát jak v souboji se středověkými ostrovními praktikami\, tak se zákeřnými intrikami londýnských lékařů\, kteří se cítí ohroženi Robovými nezvyklými metodami i jeho úspěchem. A ve snaze o záchranu životů druhých bude nejednou riskovat ten svůj. Do kin přichází pokračování bestselleru Ranhojič\, který má na kontě neuvěřitelných 20 milionů prodaných výtisků\, s hvězdami kultovních seriálů Živí mrtví a Hry o trůny. změna programu vyhrazena 
LOCATION:Strážnice
END:VEVENT
END:VCALENDAR