BEGIN:VCALENDAR
VERSION:2.0
CALSCALE:GREGORIAN
PRODID:-//MyApp//Calendar 1.0//EN
BEGIN:VEVENT
METHOD:PUBLISH
UID:61768@regionalniportaly.cz
DTSTAMP:20260422T143534Z
DTSTART;VALUE=DATE:20260118
DTEND;VALUE=DATE:20260119
SUMMARY:Keeper - horor
DESCRIPTION:Přístupnost 15+ / 2025 / USA\, Kanada / horor / titulky / Režie: Osgood Perkins    / délka: 98min.  Měl to být kouzelný víkend uprostřed lesů\, daleko od lidí a každodenních povinností. Jen oni dva a romantická oslava jejich výročí. Když ale Malcolm musí nečekaně odjet\, ukazuje se\, že Liz nezůstala tak docela sama. Odlehlou chatu ovládne temná síla a postupně vychází najevo děsivá minulost místa. Režisér hororů Opice a Longlegs Osgood Perkins přichází s mrazivým příběhem\, který testuje hranice lásky\, strachu i reality.\n změna programu vyhrazena 
LOCATION:Strážnice
END:VEVENT
END:VCALENDAR