BEGIN:VCALENDAR
VERSION:2.0
CALSCALE:GREGORIAN
PRODID:-//MyApp//Calendar 1.0//EN
BEGIN:VEVENT
METHOD:PUBLISH
UID:61915@regionalniportaly.cz
DTSTAMP:20260422T085942Z
DTSTART;VALUE=DATE:20260306
DTEND;VALUE=DATE:20260307
SUMMARY:Cocotte Minute
DESCRIPTION:Cocotte Minute zpět v Uherském Hradišti!Po delší době se stálice českého nu-metalu vrací na pódium Klub Mír.6. 3. 2026Uherské HradištěSupport: Šanson brutAkustický set zpěváka Zeller v triu s pianem. Zazní skladby Cocotte Minute\, které běžně nejsou součástí standardního setu – exkluzivní zážitek jen pro tenhle večer.Hluk\, energie a návrat na prkna klubu Mír.Nenech si to ujít!
LOCATION:Uherské Hradiště
END:VEVENT
END:VCALENDAR