BEGIN:VCALENDAR
VERSION:2.0
CALSCALE:GREGORIAN
PRODID:-//MyApp//Calendar 1.0//EN
BEGIN:VEVENT
METHOD:PUBLISH
UID:62006@regionalniportaly.cz
DTSTAMP:20260422T103225Z
DTSTART;VALUE=DATE:20260228
DTEND;VALUE=DATE:20260301
SUMMARY:Roots of Resistance Tour 2026
DESCRIPTION:Roots Of Resistance TourREFORE + ADACTA + Bowel FuckUherské Hradiště | Klub Mír | 28.2.2026&nbsp\;
LOCATION:Uherské Hradiště
END:VEVENT
END:VCALENDAR