BEGIN:VCALENDAR
VERSION:2.0
CALSCALE:GREGORIAN
PRODID:-//MyApp//Calendar 1.0//EN
BEGIN:VEVENT
METHOD:PUBLISH
UID:62107@regionalniportaly.cz
DTSTAMP:20260422T145017Z
DTSTART;VALUE=DATE:20260117
DTEND;VALUE=DATE:20260118
SUMMARY:22. Farní ples
DESCRIPTION:
LOCATION:Hodonín
END:VEVENT
END:VCALENDAR