BEGIN:VCALENDAR
VERSION:2.0
CALSCALE:GREGORIAN
PRODID:-//MyApp//Calendar 1.0//EN
BEGIN:VEVENT
METHOD:PUBLISH
UID:62235@regionalniportaly.cz
DTSTAMP:20260422T090133Z
DTSTART;VALUE=DATE:20260315
DTEND;VALUE=DATE:20260316
SUMMARY:Psychohrátky
DESCRIPTION:Populárně naučná zábavná show o duševním zdraví z dílny Holubice Agency.\nV pořadu vystupují Eva Holubová\, Karolína Holubová\, Matěj Paprčiak a psycholog Jiří Valášek.
LOCATION:Strážnice
END:VEVENT
END:VCALENDAR