BEGIN:VCALENDAR
VERSION:2.0
CALSCALE:GREGORIAN
PRODID:-//MyApp//Calendar 1.0//EN
BEGIN:VEVENT
METHOD:PUBLISH
UID:62581@regionalniportaly.cz
DTSTAMP:20260421T235036Z
DTSTART;VALUE=DATE:20260328
DTEND;VALUE=DATE:20260329
SUMMARY:ELEKTRICK MANN + ZÁVIŠ
DESCRIPTION:28. 3. 2026 | Klub Mír – Uherské Hradiště&nbsp\;Po roce se do klubu Mír vrací&nbsp\;Elektrick Mann&nbsp\;– tentokrát v opravdu výživné kombinaci!Speciálním hostem večera bude&nbsp\;Záviš\, nekompromisní král pornofolku\, básník dekadence a černého humoru.Elektrick MannSyrový rock\, energická show a texty\, které si neberou servítky. Kapela\, která staví na poctivém zvuku\, nadhledu a živelném koncertním projevu.ZávišLegenda českého undergroundu. Provokativní písničkář\, mistr ironie a břitkých textů\, který si už desítky let jede svou vlastní\, nezaměnitelnou cestu.Bude to hlasité\, nekorektní a sakra zábavné.Nenech si to ujít.DVEŘE : 19:30&nbsp\;Na místě 550kč \, tak neváhej a ušetři !&nbsp\;
LOCATION:Uherské Hradiště
END:VEVENT
END:VCALENDAR