BEGIN:VCALENDAR
VERSION:2.0
CALSCALE:GREGORIAN
PRODID:-//MyApp//Calendar 1.0//EN
BEGIN:VEVENT
METHOD:PUBLISH
UID:62594@regionalniportaly.cz
DTSTAMP:20260422T113940Z
DTSTART;VALUE=DATE:20260226
DTEND;VALUE=DATE:20260227
SUMMARY:Vřískot 7 - horor
DESCRIPTION:V poklidném městečku\, kde si Sidney Prescott (Neve Campbell) vybudovala nový život\, se objeví nový vrah v masce Ghostface. Psychopatický vrah se tentokrát vůbec neskrývá – je chorobně posedlý snahou zničit Sidney celý její život.\nVstupné: 150 KčVstupenky v předprodeji online nebo půl hodiny před filmem.\nPřístupnost 15+ / PREMIÉRA / USA / horor / Režie: Kevin Williamson / délka: 114min.V poklidném městečku\, kde si Sidney Prescott vybudovala nový život\, se objeví nový vrah v masce Ghostface. Psychopatický vrah se tentokrát vůbec neskrývá – je chorobně posedlý zničit Sidney celý její život. Nejtemnější obavy Sidney se naplní\, když se její dcera stane jeho dalším cílem. Odhodlaná chránit svou rodinu\, musí Sidney čelit hrůzám své minulosti\, aby jednou provždy ukončila krveprolití.\nzměna programu vyhrazena 
LOCATION:Strážnice
END:VEVENT
END:VCALENDAR