BEGIN:VCALENDAR
VERSION:2.0
CALSCALE:GREGORIAN
PRODID:-//MyApp//Calendar 1.0//EN
BEGIN:VEVENT
METHOD:PUBLISH
UID:62637@regionalniportaly.cz
DTSTAMP:20260422T102955Z
DTSTART;VALUE=DATE:20260307
DTEND;VALUE=DATE:20260308
SUMMARY:She Called Rose & ...
DESCRIPTION:Březnová procházka sadem ušlechtilých odrůd metalu !Zahrají a zapějí :She Called Rose + Nothing Left To Say + Swept Into Decay + Innersphere
LOCATION:Uherské Hradiště
END:VEVENT
END:VCALENDAR