BEGIN:VCALENDAR
VERSION:2.0
CALSCALE:GREGORIAN
PRODID:-//MyApp//Calendar 1.0//EN
BEGIN:VEVENT
METHOD:PUBLISH
UID:63324@regionalniportaly.cz
DTSTAMP:20260421T231518Z
DTSTART;VALUE=DATE:20260324
DTEND;VALUE=DATE:20260325
SUMMARY:Léčba smíchem - Zuzana Bubílková a Miroslav Šimůnek
DESCRIPTION:Talk show Zuzany Bubílkové a Miroslava Šimůnka - LÉČBA SMÍCHEM
LOCATION:Mutěnice
END:VEVENT
END:VCALENDAR